BEGIN:VCALENDAR
VERSION:2.0
PRODID:-//Fahrschule Isaak in Detmold und Lemgo - ECPv6.0.6.2//NONSGML v1.0//EN
CALSCALE:GREGORIAN
METHOD:PUBLISH
X-WR-CALNAME:Fahrschule Isaak in Detmold und Lemgo
X-ORIGINAL-URL:https://isaak.desigion.net
X-WR-CALDESC:Veranstaltungen für Fahrschule Isaak in Detmold und Lemgo
REFRESH-INTERVAL;VALUE=DURATION:PT1H
X-Robots-Tag:noindex
X-PUBLISHED-TTL:PT1H
BEGIN:VTIMEZONE
TZID:Europe/Berlin
BEGIN:DAYLIGHT
TZOFFSETFROM:+0100
TZOFFSETTO:+0200
TZNAME:CEST
DTSTART:20190331T010000
END:DAYLIGHT
BEGIN:STANDARD
TZOFFSETFROM:+0200
TZOFFSETTO:+0100
TZNAME:CET
DTSTART:20191027T010000
END:STANDARD
END:VTIMEZONE
BEGIN:VEVENT
DTSTART;TZID=Europe/Berlin:20190903T080000
DTEND;TZID=Europe/Berlin:20190903T170000
DTSTAMP:20260420T142318
CREATED:20190822T151451Z
LAST-MODIFIED:20190826T101711Z
UID:718-1567497600-1567530000@isaak.desigion.net
SUMMARY:Weiterbildung nach BKrFQG
DESCRIPTION:Die regelmäßige Weiterbildung verpflichtet alle 5 Jahre zur Teilnahme an 35 Stunden Pflichtunterricht in Einheiten von mindestens 7 Stunden.
URL:https://isaak.desigion.net/schulung/weiterbildung-nach-bkrfqg-2/
LOCATION:Fahrschule Isaak Detmold\, Sprottauer Straße 1\, Detmold\, 32756\, Deutschland
ORGANIZER;CN="Sergej%20Semibratov":MAILTO:info@fahrschule-isaak.de
END:VEVENT
BEGIN:VEVENT
DTSTART;TZID=Europe/Berlin:20190914T080000
DTEND;TZID=Europe/Berlin:20190914T160000
DTSTAMP:20260420T142318
CREATED:20190829T105601Z
LAST-MODIFIED:20190911T142157Z
UID:732-1568448000-1568476800@isaak.desigion.net
SUMMARY:Modul 4: Der Kunde im Mittelpunkt
DESCRIPTION:Die regelmäßige Weiterbildung verpflichtet alle 5 Jahre zur Teilnahme an 35 Stunden Pflichtunterricht in Einheiten von mindestens 7 Stunden.
URL:https://isaak.desigion.net/schulung/modul-4-der-kunde-im-mittelpunkt/
LOCATION:Fahrschule Isaak Detmold\, Sprottauer Straße 1\, Detmold\, 32756\, Deutschland
ORGANIZER;CN="Sergej%20Semibratov":MAILTO:info@fahrschule-isaak.de
END:VEVENT
BEGIN:VEVENT
DTSTART;TZID=Europe/Berlin:20190928T080000
DTEND;TZID=Europe/Berlin:20190928T160000
DTSTAMP:20260420T142318
CREATED:20190829T110412Z
LAST-MODIFIED:20190923T135555Z
UID:738-1569657600-1569686400@isaak.desigion.net
SUMMARY:Modul 5: Ladungssicherung optimieren
DESCRIPTION:Die regelmäßige Weiterbildung verpflichtet alle 5 Jahre zur Teilnahme an 35 Stunden Pflichtunterricht in Einheiten von mindestens 7 Stunden.
URL:https://isaak.desigion.net/schulung/modul-5-ladungssicherung-optimieren/
LOCATION:Fahrschule Isaak Detmold\, Sprottauer Straße 1\, Detmold\, 32756\, Deutschland
ORGANIZER;CN="Sergej%20Semibratov":MAILTO:info@fahrschule-isaak.de
END:VEVENT
END:VCALENDAR